BEGIN:VCALENDAR
VERSION:2.0
BEGIN:VEVENT
STATUS:TENTATIVE
DTSTART:20220310T171500Z
DTEND:20220310T190000Z
SUMMARY:Apunte técnico: Diferencias del Derecho Civil catalana respecto al común Español. Grup Mercantil-Civil-Sucesorio
LOCATION:Via Zoom. Imprescindible acreditarse con nombre y apellido.VIDEO EN MARCHA
DESCRIPTION:Tertulia. Abierto a colaboradores. Idioma : Castellano
END:VEVENT
END:VCALENDAR
