BEGIN:VCALENDAR
VERSION:2.0
BEGIN:VEVENT
STATUS:TENTATIVE
DTSTART:20220706T140000Z
DTEND:20220706T160000Z
SUMMARY:Apunte técnico: La legítima en Cataluña. Computación, imputación, pago y prescripción. Grup Mercantil-Civil-Sucesorio
LOCATION:Seu de la Delegació Catalana. c/ Provença, 281, baixos. Barcelona/ ZOOM: vídeo en marcha para poder ser identificado en todo momento.
DESCRIPTION:Tertulia. horario por confirmar
END:VEVENT
END:VCALENDAR
