BEGIN:VCALENDAR
VERSION:2.0
BEGIN:VEVENT
STATUS:TENTATIVE
DTSTART:20220302T150000Z
DTEND:20220302T170000Z
SUMMARY:PRESENCIAL Problemática actual del Derecho Tributario de la Unión Europea
LOCATION:Sede Central (O´Donnell7, 1º D)
DESCRIPTION:Jornada. 
END:VEVENT
END:VCALENDAR
