BEGIN:VCALENDAR
VERSION:2.0
BEGIN:VEVENT
STATUS:TENTATIVE
DTSTART:20220315T083000Z
DTEND:20220315T100000Z
SUMMARY:PRESENCIAL: FINANCIACIÓN HÍBRIDA Y REGLAS DE COORDINACIÓN: RÉGIMEN E INCOMPATIBILIDA-DES DEL ARTÍCULO 15 BIS LIS
LOCATION:Sede Central (O´Donnell 7, 1º D)
DESCRIPTION:Jornada. Ponente: Félix Daniel Martínez Laguna. Profesor de Derecho Financiero y Tributario de la Universidad Autónoma de Madrid
END:VEVENT
END:VCALENDAR
