BEGIN:VCALENDAR
VERSION:2.0
BEGIN:VEVENT
STATUS:TENTATIVE
DTSTART:20220309T160000Z
DTEND:20220309T190000Z
SUMMARY:CURSO DE CONTABILIDAD PARA DESPACHOS PROFESIONALES
LOCATION:Sede Málaga
DESCRIPTION:Jornada. 
END:VEVENT
END:VCALENDAR
