BEGIN:VCALENDAR
VERSION:2.0
BEGIN:VEVENT
STATUS:TENTATIVE
DTSTART:20220323T080000Z
DTEND:20220323T180000Z
SUMMARY:JORNADA NOVEDADES 2022
LOCATION:Auditorio UPF-BSM (c/ Balmes, 132-134, Barcelona)
DESCRIPTION:Tertulia. Abierto a colaboradores- Obligatorio mascarilla
END:VEVENT
END:VCALENDAR
