BEGIN:VCALENDAR
VERSION:2.0
BEGIN:VEVENT
STATUS:TENTATIVE
DTSTART:20221115T081500Z
DTEND:20221115T130000Z
SUMMARY:Curso sobre Gestión de despachos y nuevas tecnologias
LOCATION:Seu de la Delegació Catalana. c/ Provença, 281, baixos. Barcelona/ ZOOM: vídeo en marcha para poder ser identificado en todo momento.
DESCRIPTION:Tertulia. idioma : catalán
END:VEVENT
END:VCALENDAR
