BEGIN:VCALENDAR
VERSION:2.0
BEGIN:VEVENT
STATUS:TENTATIVE
DTSTART:20220315T153000Z
DTEND:20220315T180000Z
SUMMARY:Cuestiones de actualidad en el orden contencioso administrativo
LOCATION: PRESENCIAL. Regus Alicante. Auditorio 4ª Planta Avd. Perfecto Palacio de la Fuente, 1 (Antigua Casa del Mar).
DESCRIPTION:Jornada. Horario: 16:30 a 19:00
END:VEVENT
END:VCALENDAR
