BEGIN:VCALENDAR
VERSION:2.0
BEGIN:VEVENT
STATUS:TENTATIVE
DTSTART:20220329T073000Z
DTEND:20220329T093000Z
SUMMARY:Apunte técnico: Next Generation
LOCATION:Via Zoom. Imprescindible acreditarse con nombre y apellido.VIDEO EN MARCHA
DESCRIPTION:Tertulia. VIDEO OBLIGATORIO.Abierto a colaboradores. Idioma: Castellano-Catalán
END:VEVENT
END:VCALENDAR
