BEGIN:VCALENDAR
VERSION:2.0
BEGIN:VEVENT
STATUS:TENTATIVE
DTSTART:20220503T160000Z
DTEND:20220503T180000Z
SUMMARY:MARTES FISCALES- FALCA: Donatitvos en las ESFL: Interpretación temporal de la plurianualidad de los donativos en la ESFL. Analisi de las últimas consultas de la DGT. Grup ESFL
LOCATION:Seu de la Delegació Catalana. c/ Provença, 281, baixos. Barcelona/ ZOOM: vídeo en marcha para poder ser identificado en todo momento
DESCRIPTION:Tertulia. 
END:VEVENT
END:VCALENDAR
