BEGIN:VCALENDAR
VERSION:2.0
BEGIN:VEVENT
STATUS:TENTATIVE
DTSTART:20220323T153000Z
DTEND:20220323T180000Z
SUMMARY:Criterio de la Inspección en la valoración del motivo económico válido de las aportaciones no dinerarias
LOCATION:PRESENCIAL. Regus Alicante. Auditorio 4ª Planta Avd. Perfecto Palacio de la Fuente, 1 (Antigua Casa del Mar).
DESCRIPTION:Jornada. Horario: 16:30 a 19:00
END:VEVENT
END:VCALENDAR
