BEGIN:VCALENDAR
VERSION:2.0
BEGIN:VEVENT
STATUS:TENTATIVE
DTSTART:20220407T153000Z
DTEND:20220407T180000Z
SUMMARY:Conflicto, simulación y calificación de la norma tributaria. Últimos planteamientos jurisprudenciales y perspectivas de reforma
LOCATION:Ilustre Colegio Notarial de Andalucía - sede de Sevilla.  C/ San Miguel, 1
DESCRIPTION:Jornada. Jornada Presencial y On line. Inscritos on-line - cesión de datos: se deberán ceder al Ilustre Colegio Notarial de Andalucía / Academia Sevillana del Notariado, únicamente los datos necesarios (nombre completo y correo electrónico) de los inscritos con la única finalidad de recibir la URL para poder asistir a la actividad formativa en la modalidad on-line
END:VEVENT
END:VCALENDAR
