BEGIN:VCALENDAR
VERSION:2.0
BEGIN:VEVENT
STATUS:TENTATIVE
DTSTART:20220425T160000Z
DTEND:20220425T180000Z
SUMMARY:Campaña de IRPF 2021
LOCATION:On line
DESCRIPTION:Jornada. Ponente: Luis Muñiz García
END:VEVENT
END:VCALENDAR
