BEGIN:VCALENDAR
VERSION:2.0
BEGIN:VEVENT
STATUS:TENTATIVE
DTSTART:20220406T140000Z
DTEND:20220406T170000Z
SUMMARY:Hechos Probados, el documental, en Navarra
LOCATION:Aula Magna de la UNED, Pamplona
DESCRIPTION:Jornada. 
END:VEVENT
END:VCALENDAR
