BEGIN:VCALENDAR
VERSION:2.0
BEGIN:VEVENT
STATUS:TENTATIVE
DTSTART:20220324T090000Z
DTEND:20220324T123000Z
SUMMARY:Jornada de Estudio sobre la reforma fiscal
LOCATION:Córdoba Centro Cultural José Luis García Palacios Salón de Actos de Fundación Caja Rural del Sur C/ Radio,1 (entrada Avda. La Libertad)
DESCRIPTION:Jornada. Jornada presencial
END:VEVENT
END:VCALENDAR
