BEGIN:VCALENDAR
VERSION:2.0
BEGIN:VEVENT
STATUS:TENTATIVE
DTSTART:20220428T073000Z
DTEND:20220428T090000Z
SUMMARY:PRESENCIAL Sentencia TS 154/2022: Revocación de actos firmes.
LOCATION:Sede Central (O´Donnell 7, 1º D)
DESCRIPTION:Jornada. Ponentes: Jose Antonio Montero, Magistrado del TS y Diego Marín Barnuevo, Catedrático de Derecho Financiero y Tributario de la UAM, miembro de la AEDAF
END:VEVENT
END:VCALENDAR
