BEGIN:VCALENDAR
VERSION:2.0
BEGIN:VEVENT
STATUS:TENTATIVE
DTSTART:20220428T140000Z
DTEND:20220428T160000Z
SUMMARY:PRESENCIAL Apunte técnico:  Analisis de los gastos deducibles en el IRPF. Actividades Economicas.Grupo IRPF
LOCATION:Seu de la Delegació Catalana. c/ Provença, 281, baixos. Barcelona
DESCRIPTION:Tertulia. idioma : catalán
END:VEVENT
END:VCALENDAR
