BEGIN:VCALENDAR
VERSION:2.0
BEGIN:VEVENT
STATUS:TENTATIVE
DTSTART:20220407T143000Z
DTEND:20220407T180000Z
SUMMARY:FECHA POSPUESTA Curso de Procedimiento Tributario
LOCATION:Valencia. Sede AEDAF. C/ Paz, 35
DESCRIPTION:Jornada. Las bajas en los cursos deberán comunicarse por escrito al correo electrónico: marketing@aedaf.es antes de las 24 horas antes de su inicio. Transcurrido dicho plazo cualquier anulación no dará derecho a la devolución del importe de la inscripción abonada
END:VEVENT
END:VCALENDAR
