BEGIN:VCALENDAR
VERSION:2.0
BEGIN:VEVENT
STATUS:TENTATIVE
DTSTART:20220503T150000Z
DTEND:20220503T180000Z
SUMMARY:CURSO DE RENTA PARA DESPACHOS PROFESIONALES
LOCATION:Sede Málaga
DESCRIPTION:Jornada. 
END:VEVENT
END:VCALENDAR
