BEGIN:VCALENDAR
VERSION:2.0
BEGIN:VEVENT
STATUS:TENTATIVE
DTSTART:20220419T140000Z
DTEND:20220419T150000Z
SUMMARY:PRESENCIAL La inadmisible imprescriptibilidad de las potestades de la Administración Tributaria
LOCATION:Sede Central (O´Donnell 7, 1º D)
DESCRIPTION:Jornada. Ponente: Joaquín Huelin, Socio de Cuatrecasas. Miembro de la AEDAF
END:VEVENT
END:VCALENDAR
