BEGIN:VCALENDAR
VERSION:2.0
BEGIN:VEVENT
STATUS:TENTATIVE
DTSTART:20220503T143000Z
DTEND:20220503T173000Z
SUMMARY:Campaña IRPF 2021. Principales Novedades
LOCATION:Regus Alicante. Auditorio 4ª Planta Avd. Perfecto Palacio de la Fuente, 1 (Antigua Casa del Mar).
DESCRIPTION:Jornada. PRESENCIAL Horario : 16:30 a 19:30
END:VEVENT
END:VCALENDAR
