BEGIN:VCALENDAR
VERSION:2.0
BEGIN:VEVENT
STATUS:TENTATIVE
DTSTART:20220506T090000Z
DTEND:20220506T123000Z
SUMMARY:Jornada presencial: Impuesto sobre la Renta de las Personas Físicas. Novedades y aspectos más relevantes.
LOCATION:Restaurante Mirador de Toró, (donde se celebra la jornada y la comida) Avda. Ctra. de Toró, 42. Llanes, Asturias
DESCRIPTION:Jornada. Jornada presencial organizada conjuntamente por las Demarcaciones Territoriales de Asturias-León y Cantabria 
END:VEVENT
END:VCALENDAR
