BEGIN:VCALENDAR
VERSION:2.0
BEGIN:VEVENT
STATUS:TENTATIVE
DTSTART:20220429T080000Z
DTEND:20220429T090000Z
SUMMARY:Tertulia Fiscal: Campaña de Renta 2021
LOCATION:Instituto de Censores Jurados de Cuenta de España C/ Rosario, 5
DESCRIPTION:Jornada. Jornada presencial
END:VEVENT
END:VCALENDAR
