BEGIN:VCALENDAR
VERSION:2.0
BEGIN:VEVENT
STATUS:TENTATIVE
DTSTART:20220919T160000Z
DTEND:20220919T173000Z
SUMMARY:Apunte técnico:  El arrendamiento de inmuebles entre sociedades vincualdas exención de IVA/El resurgir del conflicto de aplicación en la norma: un caso práctico acargo de Antoni Duran-Sindreu
LOCATION:Seu de la Delegació Catalana. c/ Provença, 281, baixos. Barcelona/ ZOOM: vídeo en marcha para poder ser identificado en todo momento.
DESCRIPTION:Tertulia. exposición en catalán
END:VEVENT
END:VCALENDAR
