BEGIN:VCALENDAR
VERSION:2.0
BEGIN:VEVENT
STATUS:TENTATIVE
DTSTART:20220701T073000Z
DTEND:20220701T193000Z
SUMMARY:Jornadas de Ponferrada. Sector vitivinícola y control de gestión
LOCATION:Palacio de Canedo  C/Iglesia, Canedo - León
DESCRIPTION:Jornada. Jornada Presencial y On line
END:VEVENT
END:VCALENDAR
