BEGIN:VCALENDAR
VERSION:2.0
BEGIN:VEVENT
STATUS:TENTATIVE
DTSTART:20221124T150000Z
DTEND:20221124T190000Z
SUMMARY:XIX JORNADAS DE ESTUDIO CATALANOBALEARES
LOCATION:Hotel Camiral-PGA Catalunya Resort (Caldes de Malavella)
DESCRIPTION:Seminario. Boletín de inscripción a continuación del programa
END:VEVENT
END:VCALENDAR
