BEGIN:VCALENDAR
VERSION:2.0
BEGIN:VEVENT
STATUS:TENTATIVE
DTSTART:20220708T080000Z
DTEND:20220708T120000Z
SUMMARY:Cierre fiscal y contable del ejercicio 2021
LOCATION:Santander. Hotel Bahía, C/ Cádiz, 22
DESCRIPTION:Jornada. Jornada presencial
END:VEVENT
END:VCALENDAR
