BEGIN:VCALENDAR
VERSION:2.0
BEGIN:VEVENT
STATUS:TENTATIVE
DTSTART:20220920T143000Z
DTEND:20220920T160000Z
SUMMARY:La retribución de los administradores, otra vez en el punto de mira de Hacienda
LOCATION:Regus Alicante. Auditorio 4ª Planta Avd. Perfecto Palacio de la Fuente, 1 (Antigua Casa del Mar).
DESCRIPTION:Jornada. PRESENCIAL Horario : 16:30 a 18:00
END:VEVENT
END:VCALENDAR
