BEGIN:VCALENDAR
VERSION:2.0
BEGIN:VEVENT
STATUS:TENTATIVE
DTSTART:20220922T103000Z
DTEND:20220922T113000Z
SUMMARY:Sentencia del TJUE del 5 de mayo del Banco Popular: comienzo del reseteo
LOCATION:Jornada on line
DESCRIPTION:Jornada. Jornada videostrreaming
END:VEVENT
END:VCALENDAR
