BEGIN:VCALENDAR
VERSION:2.0
BEGIN:VEVENT
STATUS:TENTATIVE
DTSTART:20221004T160000Z
DTEND:20221004T180000Z
SUMMARY:Tratamiento  de las distintas operaciones en el I.V.A:   Brexit, Depositos aduaneros, exportaciones  (PRESENCIAL)
LOCATION:PRESENCIAL NH Palacio de Castellanos
DESCRIPTION:Jornada. Ponente: Belén Palao
END:VEVENT
END:VCALENDAR
