BEGIN:VCALENDAR
VERSION:2.0
BEGIN:VEVENT
STATUS:TENTATIVE
DTSTART:20220929T150000Z
DTEND:20220929T170000Z
SUMMARY:Las sociedades inactivas y la revocación del NIF
LOCATION:Zaragoza. Real e Ilustre Colegio de Abogados de Zaragoza C/ Don Jaime I, 18 Salón de Actos Carlos Carnicer – planta baja
DESCRIPTION:Jornada. Jornada Presencial y On line
END:VEVENT
END:VCALENDAR
