BEGIN:VCALENDAR
VERSION:2.0
BEGIN:VEVENT
STATUS:TENTATIVE
DTSTART:20221103T153000Z
DTEND:20221103T173000Z
SUMMARY:Curso de Procedimiento de Inspección (3 Sesiones)
LOCATION:Via Zoom . Imprescindible acreditarse con nombre y apellido
DESCRIPTION:Jornada. Zoom Horario 16:30 a 18:30
END:VEVENT
END:VCALENDAR
