BEGIN:VCALENDAR
VERSION:2.0
BEGIN:VEVENT
STATUS:TENTATIVE
DTSTART:20221110T083000Z
DTEND:20221110T103000Z
SUMMARY:La STS 3585/2022 de extinción del condominio
LOCATION:Online
DESCRIPTION:Jornada. 
END:VEVENT
END:VCALENDAR
