BEGIN:VCALENDAR
VERSION:2.0
BEGIN:VEVENT
STATUS:TENTATIVE
DTSTART:20221123T153000Z
DTEND:20221123T173000Z
SUMMARY:Jornada sobre el Convenio Económico y su reciente modificación, y cuestiones relevantes en las que participan ambas Administraciones
LOCATION:Colegio de Ingenieros Técnicos Industriales (CITI) Parque Tomás Caballero, 2, Pamplona
DESCRIPTION:Jornada. Toda inscripción no anulada 2 días laborables antes del comienzo de la sesión, supondrá el pago de la Jornada. En el caso de que sea gratuita para el asociado, tendrá una penalización de 20 €. Sólo se admitirán las anulaciones que se comuniquen por escrito en el mail marketing@aedaf.es
END:VEVENT
END:VCALENDAR
