BEGIN:VCALENDAR
VERSION:2.0
BEGIN:VEVENT
STATUS:TENTATIVE
DTSTART:20230706T163000Z
DTEND:20230706T180000Z
SUMMARY:Cuestiones prácticas en la inspección de tributos
LOCATION:Universidad de Murcia - Facultad de Derecho Campus de la Merced – C/ Santo Cristo, 1 Aulario de la Merced
DESCRIPTION:Jornada. Jornada presencial
END:VEVENT
END:VCALENDAR
