BEGIN:VCALENDAR
VERSION:2.0
BEGIN:VEVENT
STATUS:TENTATIVE
DTSTART:20230919T143000Z
DTEND:20230919T163000Z
SUMMARY:Procedimiento de Comprobación limitada en gestión tras la reforma de la Ley 13/2023. Autoliquidación rectificativa. Consecuencias y efectos.
LOCATION: PRESENCIAL; Regus Alicante. Auditorio 4ª Planta Avd. Perfecto Palacio de la Fuente, 1 (Antigua Casa del Mar).Y On line.
DESCRIPTION:Jornada. Presencial y On line. Horario : 16:30 a 18:30
END:VEVENT
END:VCALENDAR
