BEGIN:VCALENDAR
VERSION:2.0
BEGIN:VEVENT
STATUS:TENTATIVE
DTSTART:20231108T150000Z
DTEND:20231108T170000Z
SUMMARY:Curso de Procedimientos Tributarios
LOCATION:On line
DESCRIPTION:Jornada. Ponente: Javier Vinuesa, Socio GAP y Miembro de la AEDAF
END:VEVENT
END:VCALENDAR
