BEGIN:VCALENDAR
VERSION:2.0
BEGIN:VEVENT
STATUS:TENTATIVE
DTSTART:20240502T140000Z
DTEND:20240502T170000Z
SUMMARY:Campaña Renta y Patrimonio 2023. Novedades
LOCATION:Bilbao Ilustre Colegio de la Abogacía de Bizkaia Rampas de Uribitarte, 3   Salón de Actos
DESCRIPTION:Jornada. Jornada presencial y on line
END:VEVENT
END:VCALENDAR
