BEGIN:VCALENDAR
VERSION:2.0
BEGIN:VEVENT
STATUS:TENTATIVE
DTSTART:20240521T140000Z
DTEND:20240521T160000Z
SUMMARY:Curso completo de Impuesto sobre Sociedades
LOCATION:On line
DESCRIPTION:Jornada. 
END:VEVENT
END:VCALENDAR
