BEGIN:VCALENDAR
VERSION:2.0
BEGIN:VEVENT
STATUS:TENTATIVE
DTSTART:20230530T080000Z
DTEND:20230530T180000Z
SUMMARY:I Jornadas Tributarias de la Región de Murcia
LOCATION:Universidad de Murcia Facultad de Derecho C/ Santo Cristo, s/n. Sala de Vistas
DESCRIPTION:Jornada. Jornada presencial
END:VEVENT
END:VCALENDAR
