BEGIN:VCALENDAR
VERSION:2.0
BEGIN:VEVENT
STATUS:TENTATIVE
DTSTART:20240528T143000Z
DTEND:20240528T173000Z
SUMMARY:Renta 2023: cuestiones prácticas de IRPF. Dudas de campaña.
LOCATION:Universidad de Alicante. Salón de actos del edificio Germán Bernácer
DESCRIPTION:Jornada. PRESENCIAL Horario : 16:30 a 19:30
END:VEVENT
END:VCALENDAR
