BEGIN:VCALENDAR
VERSION:2.0
BEGIN:VEVENT
STATUS:TENTATIVE
DTSTART:20240524T083000Z
DTEND:20240524T120000Z
SUMMARY:Actualización Renta 2023
LOCATION:Llanes Restaurante Mirador de Toró (donde se celebrará la jornada y la comida) Avenida Toró, 42
DESCRIPTION:Jornada. Al finalizar la jornada, se celebrará un almuerzo
END:VEVENT
END:VCALENDAR
