BEGIN:VCALENDAR
VERSION:2.0
BEGIN:VEVENT
STATUS:TENTATIVE
DTSTART:20250320T150000Z
DTEND:20250320T170000Z
SUMMARY:Apunte técnico: El IVA reducido en la rehabilitación, renovación, reparación y obras menores de viviendas. ¿Cuándo puede aplicarse?  Grupo IVA
LOCATION:Seu de la Delegació Catalana. c/ Provença, 281, baixos. Barcelona/ ZOOM: vídeo en marcha para poder ser identificado en todo momento.
DESCRIPTION:Tertulia. Abierto a colaboradores.Idioma: castellano
END:VEVENT
END:VCALENDAR
