BEGIN:VCALENDAR
VERSION:2.0
BEGIN:VEVENT
STATUS:TENTATIVE
DTSTART:20250514T073000Z
DTEND:20250514T160000Z
SUMMARY:II Jornadas Tributarias de la Región de Murcia
LOCATION:Universidad de Murcia (Rectorado). Avda. Teniente Flomesta, 5. Murcia. Edificio Convalecencia. Salón de Grados
DESCRIPTION:Jornada. 
END:VEVENT
END:VCALENDAR
