BEGIN:VCALENDAR
VERSION:2.0
BEGIN:VEVENT
STATUS:TENTATIVE
DTSTART:20251209T150000Z
DTEND:20251209T180000Z
SUMMARY:Cierre fiscal del ejercicio 2025 y perspectivas para 2026
LOCATION:Ilustre Colegio de la Abogacía de Bizkaia Rampas de Uribitarte, 3, Bilbao
DESCRIPTION:Jornada. Jornada presencial y on line
END:VEVENT
END:VCALENDAR
