BEGIN:VCALENDAR
VERSION:2.0
BEGIN:VEVENT
STATUS:TENTATIVE
DTSTART:20251212T110000Z
DTEND:20251212T130000Z
SUMMARY:El valor probatorio de los hechos descubiertos por la administración tributaria
LOCATION:Salón de Grados de la Facultad de Derecho UPV/EHU, Manuel Lardizabal Ibildea, 2, Donostia
DESCRIPTION:Jornada. Jornada presencial
END:VEVENT
END:VCALENDAR
