BEGIN:VCALENDAR
VERSION:2.0
BEGIN:VEVENT
STATUS:TENTATIVE
DTSTART:20260305T080000Z
DTEND:20260305T173000Z
SUMMARY:XIX Encuentro AEDAF. Jornada Nacional de Estudio 2026
LOCATION:Hotel Riu Plaza España (Gran Vía, 84, Madrid)
DESCRIPTION:Jornada. *Podrá anular la inscripción a esta jornada, en cualquier momento y sin ningún coste, siempre que la anulación se comunique con una antelación de, al menos, 3 días hábiles a la fecha de celebración. Esto es, antes del lunes 2 de marzo de 2026.  En el caso de que la comunicación de anulación de la actividad se realice después de esa fecha y hasta con un día de antelación, AEDAF reembolsará el 50% del precio de la inscripción. Si la cancelación se realiza el mismo día del inicio de la celebración de la Jornada o que, sin avisar, no asista, no tendrá derecho a recibir ningún tipo de reembolso.
END:VEVENT
END:VCALENDAR
