BEGIN:VCALENDAR
VERSION:2.0
BEGIN:VEVENT
STATUS:TENTATIVE
DTSTART:20260423T160000Z
DTEND:20260423T170000Z
SUMMARY:Tertulia fiscal Grupo de Jóvenes DT Galicia
LOCATION:Santander Work Café Rúa Cantón Pequeño, 6 A Coruña
DESCRIPTION:Jornada. Jornada presencial
END:VEVENT
END:VCALENDAR
